BEGIN:VCALENDAR
VERSION:2.0
PRODID:-//Adam&#039;s Purpose - ECPv6.15.20//NONSGML v1.0//EN
CALSCALE:GREGORIAN
METHOD:PUBLISH
X-ORIGINAL-URL:https://adamspurpose.org
X-WR-CALDESC:Events for Adam&#039;s Purpose
REFRESH-INTERVAL;VALUE=DURATION:PT1H
X-Robots-Tag:noindex
X-PUBLISHED-TTL:PT1H
BEGIN:VTIMEZONE
TZID:America/Denver
BEGIN:DAYLIGHT
TZOFFSETFROM:-0700
TZOFFSETTO:-0600
TZNAME:MDT
DTSTART:20250309T090000
END:DAYLIGHT
BEGIN:STANDARD
TZOFFSETFROM:-0600
TZOFFSETTO:-0700
TZNAME:MST
DTSTART:20251102T080000
END:STANDARD
BEGIN:DAYLIGHT
TZOFFSETFROM:-0700
TZOFFSETTO:-0600
TZNAME:MDT
DTSTART:20260308T090000
END:DAYLIGHT
BEGIN:STANDARD
TZOFFSETFROM:-0600
TZOFFSETTO:-0700
TZNAME:MST
DTSTART:20261101T080000
END:STANDARD
BEGIN:DAYLIGHT
TZOFFSETFROM:-0700
TZOFFSETTO:-0600
TZNAME:MDT
DTSTART:20270314T090000
END:DAYLIGHT
BEGIN:STANDARD
TZOFFSETFROM:-0600
TZOFFSETTO:-0700
TZNAME:MST
DTSTART:20271107T080000
END:STANDARD
END:VTIMEZONE
BEGIN:VEVENT
DTSTART;TZID=America/Denver:20260411T100000
DTEND;TZID=America/Denver:20260411T120000
DTSTAMP:20260421T093342
CREATED:20260324T171704Z
LAST-MODIFIED:20260409T000710Z
UID:10000013-1775901600-1775908800@adamspurpose.org
SUMMARY:Heal and Paint | AP Connections
DESCRIPTION:Join us for another uplifting Adam’s Purpose Healing Connection as we Heal & Paint. \nThis special experience will be guided by one of our very own moms\, Destiny\, who will lead us through a painting session centered on abstract emotional expression. This is a space to release\, reflect\, and creatively process your journey (no artistic experience needed). \nWe also invite participating moms to consider featuring their artwork and sharing their story at our upcoming Impact Reception on May 8th. While this opportunity is completely optional\, it is a beautiful way to honor your journey and inspire others through your healing.
URL:https://adamspurpose.org/event/heal-and-paint-ap-connections/
LOCATION:Rise Colorado\, 1595 Elmira St.\, Aurora\, CO\, 80010\, United States
ATTACH;FMTTYPE=image/png:https://adamspurpose.org/wp-content/uploads/2026/03/HealnPaint-1.png
END:VEVENT
END:VCALENDAR