BEGIN:VCALENDAR
VERSION:2.0
PRODID:-//Adam&#039;s Purpose - ECPv6.15.20//NONSGML v1.0//EN
CALSCALE:GREGORIAN
METHOD:PUBLISH
X-ORIGINAL-URL:https://adamspurpose.org
X-WR-CALDESC:Events for Adam&#039;s Purpose
REFRESH-INTERVAL;VALUE=DURATION:PT1H
X-Robots-Tag:noindex
X-PUBLISHED-TTL:PT1H
BEGIN:VTIMEZONE
TZID:America/Denver
BEGIN:DAYLIGHT
TZOFFSETFROM:-0700
TZOFFSETTO:-0600
TZNAME:MDT
DTSTART:20250309T090000
END:DAYLIGHT
BEGIN:STANDARD
TZOFFSETFROM:-0600
TZOFFSETTO:-0700
TZNAME:MST
DTSTART:20251102T080000
END:STANDARD
BEGIN:DAYLIGHT
TZOFFSETFROM:-0700
TZOFFSETTO:-0600
TZNAME:MDT
DTSTART:20260308T090000
END:DAYLIGHT
BEGIN:STANDARD
TZOFFSETFROM:-0600
TZOFFSETTO:-0700
TZNAME:MST
DTSTART:20261101T080000
END:STANDARD
BEGIN:DAYLIGHT
TZOFFSETFROM:-0700
TZOFFSETTO:-0600
TZNAME:MDT
DTSTART:20270314T090000
END:DAYLIGHT
BEGIN:STANDARD
TZOFFSETFROM:-0600
TZOFFSETTO:-0700
TZNAME:MST
DTSTART:20271107T080000
END:STANDARD
END:VTIMEZONE
BEGIN:VTIMEZONE
TZID:UTC
BEGIN:STANDARD
TZOFFSETFROM:+0000
TZOFFSETTO:+0000
TZNAME:UTC
DTSTART:20250101T000000
END:STANDARD
END:VTIMEZONE
BEGIN:VEVENT
DTSTART;TZID=America/Denver:20260508T180000
DTEND;TZID=America/Denver:20260508T210000
DTSTAMP:20260421T075649
CREATED:20260110T222950Z
LAST-MODIFIED:20260414T190250Z
UID:10000005-1778263200-1778274000@adamspurpose.org
SUMMARY:Rooted & Rising | Adam's Purpose Impact Reception
DESCRIPTION:Join us for our Friday night Impact Reception\, an inspiring evening centered on community\, connection\, and collective impact. Together\, we will reflect on the growth of Adam’s Purpose\, share stories of healing\, and explore the vision for expanding culturally responsive grief care. \nThis experience is designed to deepen understanding\, spark meaningful dialogue\, and invite you into the continued work of supporting bereaved mothers and families. \nDress code for the evening is evening cocktail attire or semi-formal. \nBe sure to add to your calendar below!
URL:https://adamspurpose.org/event/rooted-and-rising-impact/
LOCATION:Central Park Gallery\, 8316 Northfield blvd\, Suite 1660\, Denver\, CO\, 80238\, United States
ATTACH;FMTTYPE=image/png:https://adamspurpose.org/wp-content/uploads/2026/01/Main-Flyer-Impact-Reception.png
ORGANIZER;CN="Adam's Purpose":MAILTO:admin@adamspurpose.org
END:VEVENT
BEGIN:VEVENT
DTSTART;TZID=UTC:20260509T090000
DTEND;TZID=UTC:20260509T150000
DTSTAMP:20260421T075649
CREATED:20260110T223032Z
LAST-MODIFIED:20260413T160754Z
UID:10000006-1778317200-1778338800@adamspurpose.org
SUMMARY:A Mother’s Mourn: Healing & Remembrance Brunch
DESCRIPTION:A Mother’s Mourn is an annual healing gathering that honors and uplifts bereaved mothers and their families. \nThis powerful event offers a nurturing space for remembrance\, creative expression\, and cultural connection. \nThrough reflective activities and community support\, mothers are given space to honor their children\, find comfort\, and experience healing within a compassionate community.
URL:https://adamspurpose.org/event/a-mothers-mourn-healing-remembrance-brunch-2/
LOCATION:Judi’s House\, 10125 E 25th Ave\, Aurora\, CO 80010\, USA\, Aurora\, CO\, 80010\, United States
ATTACH;FMTTYPE=image/png:https://adamspurpose.org/wp-content/uploads/2026/01/Main-Flyer-2-1.png
ORGANIZER;CN="Adam's Purpose":MAILTO:admin@adamspurpose.org
END:VEVENT
BEGIN:VEVENT
DTSTART;TZID=America/Denver:20260921T183000
DTEND;TZID=America/Denver:20260921T203000
DTSTAMP:20260421T075649
CREATED:20260413T190215Z
LAST-MODIFIED:20260413T205833Z
UID:10000014-1790015400-1790022600@adamspurpose.org
SUMMARY:Fall Peer Support Groups - Waitlist Sign-up
DESCRIPTION:Peer Support Groups provide safe\, compassionate spaces for bereaved mothers who have experienced pregnancy\, infant\, or child loss. Groups are led by trained peer facilitators with lived experience and supported by licensed therapists\, creating a community rooted in empathy\, cultural understanding\, and care. \nWe will have groups for both Pregnancy & Infant Loss and Moms experiencing the loss of a child beyond the age of 1. \nPlease join our waitlist for our Fall Semester if you are interested in joining one of our groups. We will contact you closer to the start date to guarantee enrollment and secure seats. Please note that we have limited space\, so the earlier you sign-up the better chance you will have at locking in a seat. We look forward to serving you and walking thought healing together this Fall! \n  \nStart Dates: \nA Mother’s Mourn – Monday\, 9/21 \nAngel Moms – Tuesday\, 9/22 \nVirtual – Wednesday\, 9/23 \n*Groups typically start between 6-6:30 and are 2 hours.
URL:https://adamspurpose.org/event/fall-peer-support-groups-waitlist-sign-up/
ATTACH;FMTTYPE=image/png:https://adamspurpose.org/wp-content/uploads/2026/04/Front-New-Support-Group-Flyer.png
ORGANIZER;CN="Adam's Purpose":MAILTO:admin@adamspurpose.org
END:VEVENT
END:VCALENDAR