BEGIN:VCALENDAR
VERSION:2.0
PRODID:-//Adam&#039;s Purpose - ECPv6.15.20//NONSGML v1.0//EN
CALSCALE:GREGORIAN
METHOD:PUBLISH
X-WR-CALNAME:Adam&#039;s Purpose
X-ORIGINAL-URL:https://adamspurpose.org
X-WR-CALDESC:Events for Adam&#039;s Purpose
REFRESH-INTERVAL;VALUE=DURATION:PT1H
X-Robots-Tag:noindex
X-PUBLISHED-TTL:PT1H
BEGIN:VTIMEZONE
TZID:UTC
BEGIN:STANDARD
TZOFFSETFROM:+0000
TZOFFSETTO:+0000
TZNAME:UTC
DTSTART:20250101T000000
END:STANDARD
END:VTIMEZONE
BEGIN:VEVENT
DTSTART;TZID=UTC:20260127T180000
DTEND;TZID=UTC:20260127T200000
DTSTAMP:20260421T022018
CREATED:20260110T222313Z
LAST-MODIFIED:20260122T004011Z
UID:10000002-1769536800-1769544000@adamspurpose.org
SUMMARY:Black Grief Task Force
DESCRIPTION:As part of our commitment to equitable grief care\, The Black Grief Task Force is a collective impact initiative for healing\, advocacy\, and systems change. We unite lived-experience leaders\, community partners\, and professionals to confront disparities in grief care and ensure Black families receive culturally grounded\, compassionate\, and equitable support. \nThrough focus groups\, community listening\, and targeted training\, we elevate Black voices and offer culturally responsive training to challenge inequities and advocate for grief-sensitive practices throughout Colorado’s health\, education\, and social service systems.
URL:https://adamspurpose.org/event/black-grief-task-force/
END:VEVENT
END:VCALENDAR